BEGIN:VCALENDAR
PRODID:-//Intellectual Property Law Section//Calendar Event 1.06//EN
VERSION:1.06
METHOD:PUBLISH
BEGIN:VEVENT
DTSTART:20241120T133000Z
DTEND:20241122T221500Z
DTSTAMP:20241016T153447Z
SEQUENCE:0
STATUS:CONFIRMED
SUMMARY:34th Annual Entertainment Law Institute and Entertainment Law 101 Program
UID:fd8a5925-95eb-46d0-ad88-e42367499572
CLASS:PUBLIC
TRANSP:OPAQUE
END:VEVENT
END:VCALENDAR
