BEGIN:VCALENDAR
PRODID:-//Intellectual Property Law Section//Calendar Event 1.06//EN
VERSION:1.06
METHOD:PUBLISH
BEGIN:VEVENT
DTSTART:20241028T223000Z
DTEND:20241029T003000Z
DTSTAMP:20241016T160529Z
SEQUENCE:0
STATUS:CONFIRMED
SUMMARY:Beyond IP:  A Discussion with David Berdan, USPTO General Counsel
UID:93a729e1-3c81-4244-9cad-54e4119ba8f5
CLASS:PUBLIC
TRANSP:OPAQUE
END:VEVENT
END:VCALENDAR
