BEGIN:VCALENDAR
PRODID:-//Intellectual Property Law Section//Calendar Event 1.06//EN
VERSION:1.06
METHOD:PUBLISH
BEGIN:VEVENT
DTSTART:20250312T050000Z
DTEND:20250312T050000Z
DTSTAMP:20250124T163853Z
SEQUENCE:0
STATUS:CONFIRMED
SUMMARY:Intellectual Property Litigation Law Courses (Webcast Replay)
UID:8f22e456-4ddb-4e91-980f-2e0e47baf96e
CLASS:PUBLIC
TRANSP:OPAQUE
END:VEVENT
END:VCALENDAR
