BEGIN:VCALENDAR
PRODID:-//Intellectual Property Law Section//Calendar Event 1.06//EN
VERSION:1.06
METHOD:PUBLISH
BEGIN:VEVENT
DTSTART:20250313T050000Z
DTEND:20250314T050000Z
DTSTAMP:20250124T164145Z
SEQUENCE:0
STATUS:CONFIRMED
SUMMARY:Advanced Intellectual Property Law Courses (Webcast Replay)
UID:c67f5d74-895e-4b69-a6b3-6a16702ca41d
CLASS:PUBLIC
TRANSP:OPAQUE
END:VEVENT
END:VCALENDAR
