BEGIN:VCALENDAR
PRODID:-//Intellectual Property Law Section//Calendar Event 1.06//EN
VERSION:1.06
METHOD:PUBLISH
BEGIN:VEVENT
DTSTART:20250425T050000Z
DTEND:20250425T050000Z
DTSTAMP:20250124T164210Z
SEQUENCE:0
STATUS:CONFIRMED
SUMMARY:Inventor of the Year Award Nominations Deadline
UID:e546af53-9d0e-414c-9c65-ae73a2c4b3ad
CLASS:PUBLIC
TRANSP:OPAQUE
END:VEVENT
END:VCALENDAR
