BEGIN:VCALENDAR
PRODID:-//Intellectual Property Law Section//Calendar Event 1.06//EN
VERSION:1.06
METHOD:PUBLISH
BEGIN:VEVENT
DTSTART:20250619T050000Z
DTEND:20250620T050000Z
DTSTAMP:20250124T164413Z
SEQUENCE:0
STATUS:CONFIRMED
SUMMARY:Annual Meeting of the State Bar of Texas (in San Antonio)
UID:7c0b41f8-4a35-4b1d-97af-e443cae09940
CLASS:PUBLIC
TRANSP:OPAQUE
END:VEVENT
END:VCALENDAR
