BEGIN:VCALENDAR
PRODID:-//Intellectual Property Law Section//Calendar Event 1.06//EN
VERSION:1.06
METHOD:PUBLISH
BEGIN:VEVENT
DTSTART:20250212T000000Z
DTEND:20250212T030000Z
DTSTAMP:20250130T224954Z
SEQUENCE:0
STATUS:CONFIRMED
SUMMARY:SBOT IP Happy Hour
UID:8265546b-50e3-413e-979a-df952a739c0c
CLASS:PUBLIC
TRANSP:OPAQUE
END:VEVENT
END:VCALENDAR
