BEGIN:VCALENDAR
PRODID:-//Intellectual Property Law Section//Calendar Event 1.06//EN
VERSION:1.06
METHOD:PUBLISH
BEGIN:VEVENT
DTSTART:20250930T190000Z
DTEND:20250930T200000Z
DTSTAMP:20250916T010748Z
SEQUENCE:0
STATUS:CONFIRMED
SUMMARY:Tips for High-Quality Software Source Code Reviews
UID:30b4d3d3-8be2-48e0-866d-5276eb9d5331
CLASS:PUBLIC
TRANSP:OPAQUE
END:VEVENT
END:VCALENDAR
