BEGIN:VCALENDAR
PRODID:-//Intellectual Property Law Section//Calendar Event 1.06//EN
VERSION:1.06
METHOD:PUBLISH
BEGIN:VEVENT
DTSTART:20251204T200000Z
DTEND:20251204T210000Z
DTSTAMP:20251120T225118Z
SEQUENCE:0
STATUS:CONFIRMED
SUMMARY:Professional Responsibility:  Lawyers need AI, but AI still needs lawyers
UID:ffd4dc78-5efa-430f-8288-a558d1ce9a54
CLASS:PUBLIC
TRANSP:OPAQUE
END:VEVENT
END:VCALENDAR
