BEGIN:VCALENDAR
PRODID:-//Intellectual Property Law Section//Calendar Event 1.06//EN
VERSION:1.06
METHOD:PUBLISH
BEGIN:VEVENT
DTSTART:20251204T200000Z
DTEND:20251204T200000Z
DTSTAMP:20251203T003037Z
SEQUENCE:0
STATUS:CONFIRMED
SUMMARY:Monthly Virtual CLE 
UID:91d4239c-ef83-4eb0-bf29-e9114c6b3a47
CLASS:PUBLIC
TRANSP:OPAQUE
END:VEVENT
END:VCALENDAR
