BEGIN:VCALENDAR
PRODID:-//Intellectual Property Law Section//Calendar Event 1.06//EN
VERSION:1.06
METHOD:PUBLISH
BEGIN:VEVENT
DTSTART:20260212T140000Z
DTEND:20260213T221500Z
DTSTAMP:20260106T184605Z
SEQUENCE:0
STATUS:CONFIRMED
SUMMARY:Advanced IP Law CLE 
UID:25bedde6-e071-4768-8329-ec7b96281fdb
CLASS:PUBLIC
TRANSP:OPAQUE
END:VEVENT
END:VCALENDAR
