BEGIN:VCALENDAR
PRODID:-//Intellectual Property Law Section//Calendar Event 1.06//EN
VERSION:1.06
METHOD:PUBLISH
BEGIN:VEVENT
DTSTART:20260611T120000Z
DTEND:20260612T220000Z
DTSTAMP:20260107T163533Z
SEQUENCE:0
STATUS:CONFIRMED
SUMMARY:State Bar Annual Meeting 
UID:3f931d0c-0340-435a-89cc-c6356caa21f8
CLASS:PUBLIC
TRANSP:OPAQUE
END:VEVENT
END:VCALENDAR
