BEGIN:VCALENDAR
PRODID:-//Intellectual Property Law Section//Calendar Event 1.06//EN
VERSION:1.06
METHOD:PUBLISH
BEGIN:VEVENT
DTSTART:20260224T160000Z
DTEND:20260224T180000Z
DTSTAMP:20260209T172124Z
SEQUENCE:0
STATUS:CONFIRMED
SUMMARY: Ethics and Negotiations - (Free Zoom Webinar) 
UID:31981694-e75d-44d2-9464-27073e728523
CLASS:PUBLIC
TRANSP:OPAQUE
END:VEVENT
END:VCALENDAR
