BEGIN:VCALENDAR
PRODID:-//Intellectual Property Law Section//Calendar Event 1.06//EN
VERSION:1.06
METHOD:PUBLISH
BEGIN:VEVENT
DTSTART:20231005T130000Z
DTEND:20231007T220000Z
DTSTAMP:20230511T150812Z
SEQUENCE:0
STATUS:CONFIRMED
SUMMARY:2023 FALL INSTITUTE IN GALVESTON, TX
UID:082f46e4-73d8-4ffa-9850-6d53748508a5
CLASS:PUBLIC
TRANSP:OPAQUE
END:VEVENT
END:VCALENDAR
