BEGIN:VCALENDAR
PRODID:-//Intellectual Property Law Section//Calendar Event 1.06//EN
VERSION:1.06
METHOD:PUBLISH
BEGIN:VEVENT
DTSTART:20231116T220000Z
DTEND:20231117T010000Z
DTSTAMP:20231002T161714Z
SEQUENCE:0
STATUS:CONFIRMED
SUMMARY:Social Hour - Julep, Houston
UID:60d20ed0-3657-4f81-a89d-d7931e7f447f
CLASS:PUBLIC
TRANSP:OPAQUE
END:VEVENT
END:VCALENDAR
