BEGIN:VCALENDAR
PRODID:-//Intellectual Property Law Section//Calendar Event 1.06//EN
VERSION:1.06
METHOD:PUBLISH
BEGIN:VEVENT
DTSTART:20240201T140000Z
DTEND:20240202T230000Z
DTSTAMP:20240123T160728Z
SEQUENCE:0
STATUS:CONFIRMED
SUMMARY:37th Advanced Intellectual Property Law Course
UID:e9178323-d97c-4c0b-8cde-16b4d3b04754
CLASS:PUBLIC
TRANSP:OPAQUE
END:VEVENT
END:VCALENDAR
